BEGIN:VCALENDAR
VERSION:2.0
PRODID:-//ChamberMaster//Event Calendar 2.0//EN
METHOD:PUBLISH
X-PUBLISHED-TTL:P3D
REFRESH-INTERVAL:P3D
CALSCALE:GREGORIAN
BEGIN:VEVENT
DTSTART:20241130T193000Z
DTEND:20241130T213000Z
X-MICROSOFT-CDO-ALLDAYEVENT:FALSE
SUMMARY:Modern Ceramic Table Tree
DESCRIPTION:From 4 inches to a full 12 inches of pure charm. Make a colorful\, sculptural tree that brings all the festive vibes to your table scape. Two session class.
X-ALT-DESC;FMTTYPE=text/html:From 4 inches to a full 12 inches of pure charm. Make a colorful\, sculptural tree that brings all the festive vibes to your table scape. Two session class.
LOCATION:Clear Lake Arts Center
UID:e.1102.739162
SEQUENCE:3
DTSTAMP:20260419T194119Z
URL:http://clearlakeiowa.chambermaster.com/events/details/modern-ceramic-table-tree-739162
END:VEVENT

END:VCALENDAR
